BEGIN:VCALENDAR
VERSION:2.0
PRODID:-//wp-events-plugin.com//6.6.4.4//EN
TZID:America/Detroit
X-WR-TIMEZONE:America/Detroit
BEGIN:VEVENT
UID:39@monroecountyfair.com
DTSTART;TZID=America/Detroit:20250728T190000
DTEND;TZID=America/Detroit:20250728T190000
DTSTAMP:20250519T143228Z
URL:https://monroecountyfair.com/events/sjo-super-cross
SUMMARY:SJO Super Cross
DESCRIPTION:SJO Super Cross\nMonday\, July 28\, 7:00 PM\nGeneral Admission\
 nOnline at tickets.monroecountyfair.com   \nAdult:  $12.00  Children 
 12 &amp\; Under:  $7.00\nOR\nMonroe County Fair Box Office\nAdult:  $10.
 00  Children 12 &amp\; Under:  $5.00\nGrandstand Tickets Do Not Include 
 Gate Admission.  Gate Admission Must Be Purchased Separately\n&nbsp\;\n\n
ATTACH;FMTTYPE=image/jpeg:https://monroecountyfair.com/wp-content/uploads/
 2025/03/IMG_3564-scaled.jpg
CATEGORIES:Fair Week Events,Grandstand
LOCATION:Grandstand\, 3775 S Custer Rd\, Monroe\, MI \, 48161\, United Stat
 es
GEO:41.927956;-83.46152
X-APPLE-STRUCTURED-LOCATION;VALUE=URI;X-ADDRESS=3775 S Custer Rd\, Monroe\,
  MI \, 48161\, United States;X-APPLE-RADIUS=100;X-TITLE=Grandstand:geo:41.
 927956,-83.46152
END:VEVENT
BEGIN:VTIMEZONE
TZID:America/Detroit
X-LIC-LOCATION:America/Detroit
BEGIN:DAYLIGHT
DTSTART:20250309T030000
TZOFFSETFROM:-0500
TZOFFSETTO:-0400
TZNAME:EDT
END:DAYLIGHT
END:VTIMEZONE
END:VCALENDAR