BEGIN:VCALENDAR
VERSION:2.0
PRODID:-//wp-events-plugin.com//6.6.4.4//EN
TZID:America/Detroit
X-WR-TIMEZONE:America/Detroit
BEGIN:VEVENT
UID:105@monroecountyfair.com
DTSTART;TZID=America/Detroit:20250801T160000
DTEND;TZID=America/Detroit:20250801T190000
DTSTAMP:20250731T140233Z
URL:https://monroecountyfair.com/events/4-h-jla-large-animal-livestock-auc
 tion
SUMMARY:4-H JLA Large Animal Livestock Auction
DESCRIPTION:Order of Sale:  Dairy - Sheep - Beef - Swine\nFor additional i
 nformation:  https://www.canr.msu.edu/monroe/monroe_county_4_h/monroe-co
 unty-fair-4-h-division
ATTACH;FMTTYPE=image/jpeg:https://monroecountyfair.com/wp-content/uploads/
 2025/03/4-H-copy.jpg
CATEGORIES:4-H,Fair Week Events
LOCATION:The Andersons Show Arena\, 3775 S Custer Road\, Monroe\, MI\, 4816
 1\, United States
GEO:41.931229;-83.463548
X-APPLE-STRUCTURED-LOCATION;VALUE=URI;X-ADDRESS=3775 S Custer Road\, Monroe
 \, MI\, 48161\, United States;X-APPLE-RADIUS=100;X-TITLE=The Andersons Sho
 w Arena:geo:41.931229,-83.463548
END:VEVENT
BEGIN:VTIMEZONE
TZID:America/Detroit
X-LIC-LOCATION:America/Detroit
BEGIN:DAYLIGHT
DTSTART:20250309T030000
TZOFFSETFROM:-0500
TZOFFSETTO:-0400
TZNAME:EDT
END:DAYLIGHT
END:VTIMEZONE
END:VCALENDAR